BEGIN:VCALENDAR
VERSION:2.0
PRODID:-// - ECPv6.15.17//NONSGML v1.0//EN
CALSCALE:GREGORIAN
METHOD:PUBLISH
X-ORIGINAL-URL:https://nodance-nosense.com
X-WR-CALDESC:Évènements pour 
REFRESH-INTERVAL;VALUE=DURATION:PT1H
X-Robots-Tag:noindex
X-PUBLISHED-TTL:PT1H
BEGIN:VTIMEZONE
TZID:UTC
BEGIN:STANDARD
TZOFFSETFROM:+0000
TZOFFSETTO:+0000
TZNAME:UTC
DTSTART:20250101T000000
END:STANDARD
END:VTIMEZONE
BEGIN:VEVENT
DTSTART;TZID=UTC:20260102T000000
DTEND;TZID=UTC:20260104T235959
DTSTAMP:20260422T134543
CREATED:20250831T155403Z
LAST-MODIFIED:20250831T155404Z
UID:2431-1767312000-1767571199@nodance-nosense.com
SUMMARY:🇫🇷 Le petit cirque – Yoann Bourgeois
DESCRIPTION:FRANCE – Théâtre des Bouffes du Nord\, Paris
URL:https://nodance-nosense.com/event/%f0%9f%87%ab%f0%9f%87%b7-le-petit-cirque-yoann-bourgeois-5/
END:VEVENT
BEGIN:VEVENT
DTSTART;TZID=UTC:20260109T000000
DTEND;TZID=UTC:20260110T235959
DTSTAMP:20260422T134543
CREATED:20250831T160358Z
LAST-MODIFIED:20250831T160359Z
UID:2433-1767916800-1768089599@nodance-nosense.com
SUMMARY:🇫🇷 Le petit cirque - Yoann Bourgeois
DESCRIPTION:FRANCE – Scène nationale Brive la Gaillarde
URL:https://nodance-nosense.com/event/%f0%9f%87%ab%f0%9f%87%b7-le-petit-cirque-yoann-bourgeois-6/
END:VEVENT
END:VCALENDAR