BEGIN:VCALENDAR
VERSION:2.0
PRODID:-// - ECPv6.15.17//NONSGML v1.0//EN
CALSCALE:GREGORIAN
METHOD:PUBLISH
X-ORIGINAL-URL:https://nodance-nosense.com
X-WR-CALDESC:Évènements pour 
REFRESH-INTERVAL;VALUE=DURATION:PT1H
X-Robots-Tag:noindex
X-PUBLISHED-TTL:PT1H
BEGIN:VTIMEZONE
TZID:UTC
BEGIN:STANDARD
TZOFFSETFROM:+0000
TZOFFSETTO:+0000
TZNAME:UTC
DTSTART:20240101T000000
END:STANDARD
END:VTIMEZONE
BEGIN:VEVENT
DTSTART;TZID=UTC:20251210T000000
DTEND;TZID=UTC:20251213T235959
DTSTAMP:20260422T152516
CREATED:20250831T152315Z
LAST-MODIFIED:20250831T152316Z
UID:2420-1765324800-1765670399@nodance-nosense.com
SUMMARY:🇫🇷 Le Petit Cirque - Yoann Bourgeois
DESCRIPTION:FRANCE – Théâtre de la Cité Toulouse
URL:https://nodance-nosense.com/event/%f0%9f%87%ab%f0%9f%87%b7-le-petit-cirque-yoann-bourgeois/
END:VEVENT
BEGIN:VEVENT
DTSTART;TZID=UTC:20251215T000000
DTEND;TZID=UTC:20251215T235959
DTSTAMP:20260422T152516
CREATED:20250831T152702Z
LAST-MODIFIED:20250831T153720Z
UID:2422-1765756800-1765843199@nodance-nosense.com
SUMMARY:🇨🇭 Fantaisie Mineure - Yoann Bourgeois
DESCRIPTION:SWITZERLAND – Allmend\, Bern
URL:https://nodance-nosense.com/event/%f0%9f%87%a8%f0%9f%87%ad-fantaisie-mineure-yoann-bourgeois-4/
END:VEVENT
BEGIN:VEVENT
DTSTART;TZID=UTC:20251216T000000
DTEND;TZID=UTC:20251217T235959
DTSTAMP:20260422T152516
CREATED:20250831T154232Z
LAST-MODIFIED:20250831T154232Z
UID:2425-1765843200-1766015999@nodance-nosense.com
SUMMARY:🇫🇷 Le Petit Cirque - Yoann Bourgeois
DESCRIPTION:FRANCE – Opéra Dijon
URL:https://nodance-nosense.com/event/%f0%9f%87%ab%f0%9f%87%b7-le-petit-cirque-yoann-bourgeois-2/
END:VEVENT
BEGIN:VEVENT
DTSTART;TZID=UTC:20251226T000000
DTEND;TZID=UTC:20251228T235959
DTSTAMP:20260422T152516
CREATED:20250831T154526Z
LAST-MODIFIED:20250831T154527Z
UID:2427-1766707200-1766966399@nodance-nosense.com
SUMMARY:🇫🇷 Le petit cirque - Yoann Bourgeois
DESCRIPTION:FRANCE – Théâtre des Bouffes du Nord\, Paris
URL:https://nodance-nosense.com/event/%f0%9f%87%ab%f0%9f%87%b7-le-petit-cirque-yoann-bourgeois-3/
END:VEVENT
BEGIN:VEVENT
DTSTART;TZID=UTC:20251230T000000
DTEND;TZID=UTC:20251231T235959
DTSTAMP:20260422T152516
CREATED:20250831T154650Z
LAST-MODIFIED:20250831T160013Z
UID:2429-1767052800-1767225599@nodance-nosense.com
SUMMARY:🇫🇷 Le petit cirque – Yoann Bourgeois
DESCRIPTION:FRANCE – Théâtre des Bouffes du Nord\, Paris
URL:https://nodance-nosense.com/event/%f0%9f%87%ab%f0%9f%87%b7-le-petit-cirque-yoann-bourgeois-4/
END:VEVENT
END:VCALENDAR