BEGIN:VCALENDAR
VERSION:2.0
PRODID:-// - ECPv6.15.17//NONSGML v1.0//EN
CALSCALE:GREGORIAN
METHOD:PUBLISH
X-ORIGINAL-URL:https://nodance-nosense.com
X-WR-CALDESC:Évènements pour 
REFRESH-INTERVAL;VALUE=DURATION:PT1H
X-Robots-Tag:noindex
X-PUBLISHED-TTL:PT1H
BEGIN:VTIMEZONE
TZID:UTC
BEGIN:STANDARD
TZOFFSETFROM:+0000
TZOFFSETTO:+0000
TZNAME:UTC
DTSTART:20240101T000000
END:STANDARD
END:VTIMEZONE
BEGIN:VEVENT
DTSTART;TZID=UTC:20251109T000000
DTEND;TZID=UTC:20251109T235959
DTSTAMP:20260422T163617
CREATED:20250831T151311Z
LAST-MODIFIED:20250831T151311Z
UID:2416-1762646400-1762732799@nodance-nosense.com
SUMMARY:🇨🇭 Fantaisie Mineure - Yoann Bourgeois
DESCRIPTION:SWITZERLAND – Plaine de Plainpalais Genève
URL:https://nodance-nosense.com/event/%f0%9f%87%a8%f0%9f%87%ad-fantaisie-mineure-yoann-bourgeois-2/
END:VEVENT
BEGIN:VEVENT
DTSTART;TZID=UTC:20251121T000000
DTEND;TZID=UTC:20251121T235959
DTSTAMP:20260422T163617
CREATED:20250831T152111Z
LAST-MODIFIED:20250831T152112Z
UID:2418-1763683200-1763769599@nodance-nosense.com
SUMMARY:🇨🇭 Fantaisie Mineure - Yoann Bourgeois
DESCRIPTION:SWITZERLAND – Parc des Sports Morges
URL:https://nodance-nosense.com/event/%f0%9f%87%a8%f0%9f%87%ad-fantaisie-mineure-yoann-bourgeois-3/
END:VEVENT
END:VCALENDAR