BEGIN:VCALENDAR
VERSION:2.0
PRODID:-// - ECPv6.15.17//NONSGML v1.0//EN
CALSCALE:GREGORIAN
METHOD:PUBLISH
X-ORIGINAL-URL:https://nodance-nosense.com
X-WR-CALDESC:Évènements pour 
REFRESH-INTERVAL;VALUE=DURATION:PT1H
X-Robots-Tag:noindex
X-PUBLISHED-TTL:PT1H
BEGIN:VTIMEZONE
TZID:UTC
BEGIN:STANDARD
TZOFFSETFROM:+0000
TZOFFSETTO:+0000
TZNAME:UTC
DTSTART:20240101T000000
END:STANDARD
END:VTIMEZONE
BEGIN:VEVENT
DTSTART;TZID=UTC:20250918T000000
DTEND;TZID=UTC:20250920T235959
DTSTAMP:20260424T091016
CREATED:20250831T161156Z
LAST-MODIFIED:20250831T161157Z
UID:2437-1758153600-1758412799@nodance-nosense.com
SUMMARY:🇬🇧 Vlaemsch (chez moi) - Sidi Larbi Cherkaoui
DESCRIPTION:UNITED KINGDOM – Sadler’s Wells Theatre\, London
URL:https://nodance-nosense.com/event/%f0%9f%87%ac%f0%9f%87%a7-vlaemsch-chez-moi-sidi-larbi-cherkaoui/
END:VEVENT
BEGIN:VEVENT
DTSTART;TZID=UTC:20250925T000000
DTEND;TZID=UTC:20250927T235959
DTSTAMP:20260424T091016
CREATED:20250831T161708Z
LAST-MODIFIED:20250831T161709Z
UID:2439-1758758400-1759017599@nodance-nosense.com
SUMMARY:🇬🇧 An Accident / a Life - Sidi Larbi Cherkaoui
DESCRIPTION:UNITED KINGDOM – Sadler’s Wells Theatre\, London
URL:https://nodance-nosense.com/event/%f0%9f%87%ac%f0%9f%87%a7-an-accident-a-life-sidi-larbi-cherkaoui/
END:VEVENT
END:VCALENDAR