BEGIN:VCALENDAR
VERSION:2.0
PRODID:-// - ECPv6.15.17//NONSGML v1.0//EN
CALSCALE:GREGORIAN
METHOD:PUBLISH
X-ORIGINAL-URL:https://nodance-nosense.com
X-WR-CALDESC:Évènements pour 
REFRESH-INTERVAL;VALUE=DURATION:PT1H
X-Robots-Tag:noindex
X-PUBLISHED-TTL:PT1H
BEGIN:VTIMEZONE
TZID:UTC
BEGIN:STANDARD
TZOFFSETFROM:+0000
TZOFFSETTO:+0000
TZNAME:UTC
DTSTART:20240101T000000
END:STANDARD
END:VTIMEZONE
BEGIN:VEVENT
DTSTART;TZID=UTC:20250701T000000
DTEND;TZID=UTC:20250701T235959
DTSTAMP:20260424T113744
CREATED:20250108T203817Z
LAST-MODIFIED:20250605T112036Z
UID:896-1751328000-1751414399@nodance-nosense.com
SUMMARY:🇦🇹 Fall / Orbo Nove – Sidi Larbi Cherkaoui
DESCRIPTION:AUSTRIA – Landestheater Linz
URL:https://nodance-nosense.com/event/fall-orbo-nove-sidi-larbi-cherkaoui-8/
END:VEVENT
BEGIN:VEVENT
DTSTART;TZID=UTC:20250701T000000
DTEND;TZID=UTC:20250701T235959
DTSTAMP:20260424T113744
CREATED:20250108T220854Z
LAST-MODIFIED:20250605T112409Z
UID:996-1751328000-1751414399@nodance-nosense.com
SUMMARY:🇩🇪 Noetic - Sidi Larbi Cherkaoui
DESCRIPTION:GERMANY – Semperoper Dresde
URL:https://nodance-nosense.com/event/noetic-sidi-larbi-cherkaoui-2/
END:VEVENT
BEGIN:VEVENT
DTSTART;TZID=UTC:20250704T000000
DTEND;TZID=UTC:20250704T235959
DTSTAMP:20260424T113744
CREATED:20250108T220933Z
LAST-MODIFIED:20250605T112420Z
UID:999-1751587200-1751673599@nodance-nosense.com
SUMMARY:🇩🇪 Noetic - Sidi Larbi Cherkaoui
DESCRIPTION:GERMANY – Semperoper Dresde
URL:https://nodance-nosense.com/event/noetic-sidi-larbi-cherkaoui-3/
END:VEVENT
BEGIN:VEVENT
DTSTART;TZID=UTC:20250706T000000
DTEND;TZID=UTC:20250706T235959
DTSTAMP:20260424T113744
CREATED:20250108T221038Z
LAST-MODIFIED:20250605T112429Z
UID:1001-1751760000-1751846399@nodance-nosense.com
SUMMARY:🇩🇪 Noetic - Sidi Larbi Cherkaoui
DESCRIPTION:GERMANY – Semperoper Dresden
URL:https://nodance-nosense.com/event/noetic-sidi-larbi-cherkaoui-4/
END:VEVENT
BEGIN:VEVENT
DTSTART;TZID=UTC:20250710T000000
DTEND;TZID=UTC:20250710T235959
DTSTAMP:20260424T113744
CREATED:20250108T221134Z
LAST-MODIFIED:20250605T112459Z
UID:1003-1752105600-1752191999@nodance-nosense.com
SUMMARY:🇩🇪 Noetic - Sidi Larbi Cherkaoui
DESCRIPTION:GERMANY – Semperoper Dresden
URL:https://nodance-nosense.com/event/noetic-sidi-larbi-cherkaoui-5/
END:VEVENT
END:VCALENDAR