BEGIN:VCALENDAR
VERSION:2.0
PRODID:-// - ECPv6.15.17//NONSGML v1.0//EN
CALSCALE:GREGORIAN
METHOD:PUBLISH
X-ORIGINAL-URL:https://nodance-nosense.com
X-WR-CALDESC:Évènements pour 
REFRESH-INTERVAL;VALUE=DURATION:PT1H
X-Robots-Tag:noindex
X-PUBLISHED-TTL:PT1H
BEGIN:VTIMEZONE
TZID:UTC
BEGIN:STANDARD
TZOFFSETFROM:+0000
TZOFFSETTO:+0000
TZNAME:UTC
DTSTART:20240101T000000
END:STANDARD
END:VTIMEZONE
BEGIN:VEVENT
DTSTART;TZID=UTC:20250618T000000
DTEND;TZID=UTC:20250618T235959
DTSTAMP:20260423T014608
CREATED:20250605T113414Z
LAST-MODIFIED:20250605T113414Z
UID:2063-1750204800-1750291199@nodance-nosense.com
SUMMARY:🇨🇭Fantaisie mineure - Yoann Bourgeois
DESCRIPTION:SWITZERLAND – Das Zelt Luzern
URL:https://nodance-nosense.com/event/%f0%9f%87%a8%f0%9f%87%adfantaisie-mineure-yoann-bourgeois/
END:VEVENT
END:VCALENDAR