BEGIN:VCALENDAR
VERSION:2.0
PRODID:-// - ECPv6.15.17//NONSGML v1.0//EN
CALSCALE:GREGORIAN
METHOD:PUBLISH
X-ORIGINAL-URL:https://nodance-nosense.com
X-WR-CALDESC:Évènements pour 
REFRESH-INTERVAL;VALUE=DURATION:PT1H
X-Robots-Tag:noindex
X-PUBLISHED-TTL:PT1H
BEGIN:VTIMEZONE
TZID:UTC
BEGIN:STANDARD
TZOFFSETFROM:+0000
TZOFFSETTO:+0000
TZNAME:UTC
DTSTART:20240101T000000
END:STANDARD
END:VTIMEZONE
BEGIN:VEVENT
DTSTART;TZID=UTC:20250605T000000
DTEND;TZID=UTC:20250605T235959
DTSTAMP:20260424T124755
CREATED:20250108T203602Z
LAST-MODIFIED:20250605T110732Z
UID:890-1749081600-1749167999@nodance-nosense.com
SUMMARY:🇦🇹 Fall / Orbo Novo – Sidi Larbi Cherkaoui
DESCRIPTION:AUSTRIA – Landestheater Linz
URL:https://nodance-nosense.com/event/fall-orbo-nove-sidi-larbi-cherkaoui-5/
END:VEVENT
BEGIN:VEVENT
DTSTART;TZID=UTC:20250605T000000
DTEND;TZID=UTC:20250605T235959
DTSTAMP:20260424T124755
CREATED:20250108T214418Z
LAST-MODIFIED:20250605T110826Z
UID:962-1749081600-1749167999@nodance-nosense.com
SUMMARY:🇧🇪 Sutra - Sidi Larbi Cherkaoui
DESCRIPTION:BELGIUM – De Warande Turnhout
URL:https://nodance-nosense.com/event/sutra-sidi-larbi-cherkaoui-4/
END:VEVENT
BEGIN:VEVENT
DTSTART;TZID=UTC:20250606T000000
DTEND;TZID=UTC:20250606T235959
DTSTAMP:20260424T124755
CREATED:20250108T214529Z
LAST-MODIFIED:20250605T110909Z
UID:964-1749168000-1749254399@nodance-nosense.com
SUMMARY:🇧🇪 Sutra - Sidi Larbi Cherkaoui
DESCRIPTION:BELGIUM – De Warande Turnhout
URL:https://nodance-nosense.com/event/sutra-sidi-larbi-cherkaoui-5/
END:VEVENT
BEGIN:VEVENT
DTSTART;TZID=UTC:20250607T000000
DTEND;TZID=UTC:20250607T235959
DTSTAMP:20260424T124755
CREATED:20250108T214607Z
LAST-MODIFIED:20250605T111123Z
UID:966-1749254400-1749340799@nodance-nosense.com
SUMMARY:🇧🇪 Sutra - Sidi Larbi Cherkaoui
DESCRIPTION:BELGIUM – De Warande Turnhout
URL:https://nodance-nosense.com/event/sutra-sidi-larbi-cherkaoui-6/
END:VEVENT
BEGIN:VEVENT
DTSTART;TZID=UTC:20250612T000000
DTEND;TZID=UTC:20250612T235959
DTSTAMP:20260424T124755
CREATED:20250108T214851Z
LAST-MODIFIED:20250605T111723Z
UID:970-1749686400-1749772799@nodance-nosense.com
SUMMARY:🇧🇪 Sutra - Sidi Larbi Cherkaoui
DESCRIPTION:BELGIUM – Stadsschouwburg Antwerpen
URL:https://nodance-nosense.com/event/sutra-sidi-larbi-cherkaoui-8/
END:VEVENT
BEGIN:VEVENT
DTSTART;TZID=UTC:20250613T000000
DTEND;TZID=UTC:20250613T235959
DTSTAMP:20260424T124755
CREATED:20250108T214747Z
LAST-MODIFIED:20250605T111731Z
UID:968-1749772800-1749859199@nodance-nosense.com
SUMMARY:🇧🇪 Sutra - Sidi Larbi Cherkaoui
DESCRIPTION:BELGIUM – Stadsschouwburg Antwerpen
URL:https://nodance-nosense.com/event/sutra-sidi-larbi-cherkaoui-7/
END:VEVENT
BEGIN:VEVENT
DTSTART;TZID=UTC:20250614T000000
DTEND;TZID=UTC:20250614T235959
DTSTAMP:20260424T124755
CREATED:20250108T215016Z
LAST-MODIFIED:20250605T111742Z
UID:972-1749859200-1749945599@nodance-nosense.com
SUMMARY:🇧🇪 Sutra - Sidi Larbi Cherkaoui
DESCRIPTION:BELGIUM – De Warande Turnhout
URL:https://nodance-nosense.com/event/sutra-sidi-larbi-cherkaoui-9/
END:VEVENT
BEGIN:VEVENT
DTSTART;TZID=UTC:20250615T000000
DTEND;TZID=UTC:20250615T235959
DTSTAMP:20260424T124755
CREATED:20250108T215125Z
LAST-MODIFIED:20250605T111751Z
UID:974-1749945600-1750031999@nodance-nosense.com
SUMMARY:🇧🇪 Sutra - Sidi Larbi Cherkaoui
DESCRIPTION:BELGIUM – De Warande Turnhout
URL:https://nodance-nosense.com/event/sutra-sidi-larbi-cherkaoui-10/
END:VEVENT
BEGIN:VEVENT
DTSTART;TZID=UTC:20250616T000000
DTEND;TZID=UTC:20250616T235959
DTSTAMP:20260424T124755
CREATED:20250108T203650Z
LAST-MODIFIED:20250605T112014Z
UID:892-1750032000-1750118399@nodance-nosense.com
SUMMARY:🇦🇹 Fall / Orbo Nove – Sidi Larbi Cherkaoui
DESCRIPTION:AUSTRIA – Landestheater Linz
URL:https://nodance-nosense.com/event/fall-orbo-nove-sidi-larbi-cherkaoui-6/
END:VEVENT
BEGIN:VEVENT
DTSTART;TZID=UTC:20250618T000000
DTEND;TZID=UTC:20250618T235959
DTSTAMP:20260424T124755
CREATED:20250108T220316Z
LAST-MODIFIED:20250605T111800Z
UID:986-1750204800-1750291199@nodance-nosense.com
SUMMARY:🇧🇪 Sutra – Sidi Larbi Cherkaoui
DESCRIPTION:BELGIUM – Cirque Royal Bruxelles
URL:https://nodance-nosense.com/event/sutra-sidi-larbi-cherkaoui-12/
END:VEVENT
BEGIN:VEVENT
DTSTART;TZID=UTC:20250619T000000
DTEND;TZID=UTC:20250619T235959
DTSTAMP:20260424T124755
CREATED:20250108T215537Z
LAST-MODIFIED:20250605T112257Z
UID:976-1750291200-1750377599@nodance-nosense.com
SUMMARY:🇪🇸 Vlaemsch (chez moi) - Sidi Larbi Cherkaoui
DESCRIPTION:SPAIN – Teatros del Canal Madrid
URL:https://nodance-nosense.com/event/vlaemsch-chez-moi-sidi-larbi-cherkaoui-4/
END:VEVENT
BEGIN:VEVENT
DTSTART;TZID=UTC:20250619T000000
DTEND;TZID=UTC:20250619T235959
DTSTAMP:20260424T124755
CREATED:20250108T220400Z
LAST-MODIFIED:20250605T111820Z
UID:988-1750291200-1750377599@nodance-nosense.com
SUMMARY:🇧🇪 Sutra – Sidi Larbi Cherkaoui
DESCRIPTION:BELGIUM – Cirque Royal Bruxelles
URL:https://nodance-nosense.com/event/sutra-sidi-larbi-cherkaoui-13/
END:VEVENT
BEGIN:VEVENT
DTSTART;TZID=UTC:20250620T000000
DTEND;TZID=UTC:20250620T235959
DTSTAMP:20260424T124755
CREATED:20250108T215632Z
LAST-MODIFIED:20250605T112313Z
UID:978-1750377600-1750463999@nodance-nosense.com
SUMMARY:🇪🇸 Vlaemsch (chez moi) - Sidi Larbi Cherkaoui
DESCRIPTION:SPAIN – Teatros del Canal Madrid
URL:https://nodance-nosense.com/event/vlaemsch-chez-moi-sidi-larbi-cherkaoui-5/
END:VEVENT
BEGIN:VEVENT
DTSTART;TZID=UTC:20250620T000000
DTEND;TZID=UTC:20250620T235959
DTSTAMP:20260424T124755
CREATED:20250108T220058Z
LAST-MODIFIED:20250605T111847Z
UID:984-1750377600-1750463999@nodance-nosense.com
SUMMARY:🇧🇪 Sutra – Sidi Larbi Cherkaoui
DESCRIPTION:BELGIUM – Cirque Royal Bruxelles
URL:https://nodance-nosense.com/event/sutra-sidi-larbi-cherkaoui-11/
END:VEVENT
BEGIN:VEVENT
DTSTART;TZID=UTC:20250621T000000
DTEND;TZID=UTC:20250621T235959
DTSTAMP:20260424T124755
CREATED:20250108T203738Z
LAST-MODIFIED:20250605T112027Z
UID:894-1750464000-1750550399@nodance-nosense.com
SUMMARY:🇦🇹 Fall / Orbo Nove – Sidi Larbi Cherkaoui
DESCRIPTION:AUSTRIA – Landestheater Linz
URL:https://nodance-nosense.com/event/fall-orbo-nove-sidi-larbi-cherkaoui-7/
END:VEVENT
BEGIN:VEVENT
DTSTART;TZID=UTC:20250621T000000
DTEND;TZID=UTC:20250621T235959
DTSTAMP:20260424T124755
CREATED:20250108T215724Z
LAST-MODIFIED:20250605T112322Z
UID:980-1750464000-1750550399@nodance-nosense.com
SUMMARY:🇪🇸 Vlaemsch (chez moi) - Sidi Larbi Cherkaoui
DESCRIPTION:SPAIN – Teatros del Canal Madrid
URL:https://nodance-nosense.com/event/vlaemsch-chez-moi-sidi-larbi-cherkaoui-6/
END:VEVENT
BEGIN:VEVENT
DTSTART;TZID=UTC:20250621T000000
DTEND;TZID=UTC:20250621T235959
DTSTAMP:20260424T124755
CREATED:20250108T220440Z
LAST-MODIFIED:20250605T111930Z
UID:990-1750464000-1750550399@nodance-nosense.com
SUMMARY:🇧🇪 Sutra – Sidi Larbi Cherkaoui
DESCRIPTION:BELGIUM – Cirque Royal Bruxelles
URL:https://nodance-nosense.com/event/sutra-sidi-larbi-cherkaoui-14/
END:VEVENT
BEGIN:VEVENT
DTSTART;TZID=UTC:20250622T000000
DTEND;TZID=UTC:20250622T235959
DTSTAMP:20260424T124755
CREATED:20250108T215837Z
LAST-MODIFIED:20250605T112333Z
UID:982-1750550400-1750636799@nodance-nosense.com
SUMMARY:🇪🇸 Vlaemsch (chez moi) - Sidi Larbi Cherkaoui
DESCRIPTION:SPAIN – Teatros del Canal Madrid
URL:https://nodance-nosense.com/event/vlaemsch-chez-moi-sidi-larbi-cherkaoui-7/
END:VEVENT
BEGIN:VEVENT
DTSTART;TZID=UTC:20250622T000000
DTEND;TZID=UTC:20250622T235959
DTSTAMP:20260424T124755
CREATED:20250108T220521Z
LAST-MODIFIED:20250605T111938Z
UID:992-1750550400-1750636799@nodance-nosense.com
SUMMARY:🇧🇪 Sutra – Sidi Larbi Cherkaoui
DESCRIPTION:BELGIUM – Cirque Royal Bruxelles
URL:https://nodance-nosense.com/event/sutra-sidi-larbi-cherkaoui-15/
END:VEVENT
BEGIN:VEVENT
DTSTART;TZID=UTC:20250628T000000
DTEND;TZID=UTC:20250628T235959
DTSTAMP:20260424T124755
CREATED:20250108T220747Z
LAST-MODIFIED:20250605T112358Z
UID:994-1751068800-1751155199@nodance-nosense.com
SUMMARY:🇩🇪 Noetic - Sidi Larbi Cherkaoui
DESCRIPTION:GERMANY – Semperoper Dresden
URL:https://nodance-nosense.com/event/noetic-sidi-larbi-cherkaoui/
END:VEVENT
END:VCALENDAR