BEGIN:VCALENDAR
VERSION:2.0
PRODID:-// - ECPv6.15.17//NONSGML v1.0//EN
CALSCALE:GREGORIAN
METHOD:PUBLISH
X-ORIGINAL-URL:https://nodance-nosense.com
X-WR-CALDESC:Évènements pour 
REFRESH-INTERVAL;VALUE=DURATION:PT1H
X-Robots-Tag:noindex
X-PUBLISHED-TTL:PT1H
BEGIN:VTIMEZONE
TZID:UTC
BEGIN:STANDARD
TZOFFSETFROM:+0000
TZOFFSETTO:+0000
TZNAME:UTC
DTSTART:20240101T000000
END:STANDARD
END:VTIMEZONE
BEGIN:VEVENT
DTSTART;TZID=UTC:20250501T000000
DTEND;TZID=UTC:20250501T235959
DTSTAMP:20260424T135929
CREATED:20250108T212951Z
LAST-MODIFIED:20250108T212951Z
UID:950-1746057600-1746143999@nodance-nosense.com
SUMMARY:Faun - Sidi Larbi Cherkaoui
DESCRIPTION:USA – Eisenhower Theater Washington
URL:https://nodance-nosense.com/event/faun-sidi-larbi-cherkaoui-7/
END:VEVENT
BEGIN:VEVENT
DTSTART;TZID=UTC:20250502T000000
DTEND;TZID=UTC:20250502T235959
DTSTAMP:20260424T135929
CREATED:20250108T213048Z
LAST-MODIFIED:20250108T213048Z
UID:952-1746144000-1746230399@nodance-nosense.com
SUMMARY:Faun – Sidi Larbi Cherkaoui
DESCRIPTION:USA – Eisenhower Theater Washington
URL:https://nodance-nosense.com/event/faun-sidi-larbi-cherkaoui-8/
END:VEVENT
BEGIN:VEVENT
DTSTART;TZID=UTC:20250503T000000
DTEND;TZID=UTC:20250503T235959
DTSTAMP:20260424T135929
CREATED:20250108T213125Z
LAST-MODIFIED:20250108T213125Z
UID:954-1746230400-1746316799@nodance-nosense.com
SUMMARY:Faun – Sidi Larbi Cherkaoui
DESCRIPTION:USA – Eisenhower Theater Washington
URL:https://nodance-nosense.com/event/faun-sidi-larbi-cherkaoui-9/
END:VEVENT
BEGIN:VEVENT
DTSTART;TZID=UTC:20250511T000000
DTEND;TZID=UTC:20250511T235959
DTSTAMP:20260424T135929
CREATED:20250108T203357Z
LAST-MODIFIED:20250108T203357Z
UID:886-1746921600-1747007999@nodance-nosense.com
SUMMARY:Fall / Orbo Nove – Sidi Larbi Cherkaoui
DESCRIPTION:AUSTRIA – Landestheater Linz
URL:https://nodance-nosense.com/event/fall-orbo-nove-sidi-larbi-cherkaoui/
END:VEVENT
BEGIN:VEVENT
DTSTART;TZID=UTC:20250528T000000
DTEND;TZID=UTC:20250528T235959
DTSTAMP:20260424T135929
CREATED:20250108T213514Z
LAST-MODIFIED:20250108T213514Z
UID:956-1748390400-1748476799@nodance-nosense.com
SUMMARY:Sutra - Sidi Larbi Cherkaoui
DESCRIPTION:NETHERLANDS – Amare Den Haag
URL:https://nodance-nosense.com/event/sutra-sidi-larbi-cherkaoui/
END:VEVENT
BEGIN:VEVENT
DTSTART;TZID=UTC:20250529T000000
DTEND;TZID=UTC:20250529T235959
DTSTAMP:20260424T135929
CREATED:20250108T214028Z
LAST-MODIFIED:20250108T214028Z
UID:960-1748476800-1748563199@nodance-nosense.com
SUMMARY:Sutra - Sidi Larbi Cherkaoui
DESCRIPTION:NETHERLANDS – Amare Den Haag
URL:https://nodance-nosense.com/event/sutra-sidi-larbi-cherkaoui-3/
END:VEVENT
BEGIN:VEVENT
DTSTART;TZID=UTC:20250530T000000
DTEND;TZID=UTC:20250530T235959
DTSTAMP:20260424T135929
CREATED:20250108T213647Z
LAST-MODIFIED:20250108T213647Z
UID:958-1748563200-1748649599@nodance-nosense.com
SUMMARY:Sutra - Sidi Larbi Cherkaoui
DESCRIPTION:NETHERLANDS – Amare Den Haag
URL:https://nodance-nosense.com/event/sutra-sidi-larbi-cherkaoui-2/
END:VEVENT
BEGIN:VEVENT
DTSTART;TZID=UTC:20250531T000000
DTEND;TZID=UTC:20250531T235959
DTSTAMP:20260424T135929
CREATED:20250108T203457Z
LAST-MODIFIED:20250108T203457Z
UID:888-1748649600-1748735999@nodance-nosense.com
SUMMARY:Fall / Orbo Nove – Sidi Larbi Cherkaoui
DESCRIPTION:AUSTRIA – Landestheater Linz
URL:https://nodance-nosense.com/event/fall-orbo-nove-sidi-larbi-cherkaoui-4/
END:VEVENT
END:VCALENDAR