BEGIN:VCALENDAR
VERSION:2.0
PRODID:-// - ECPv6.15.17//NONSGML v1.0//EN
CALSCALE:GREGORIAN
METHOD:PUBLISH
X-ORIGINAL-URL:https://nodance-nosense.com
X-WR-CALDESC:Évènements pour 
REFRESH-INTERVAL;VALUE=DURATION:PT1H
X-Robots-Tag:noindex
X-PUBLISHED-TTL:PT1H
BEGIN:VTIMEZONE
TZID:UTC
BEGIN:STANDARD
TZOFFSETFROM:+0000
TZOFFSETTO:+0000
TZNAME:UTC
DTSTART:20240101T000000
END:STANDARD
END:VTIMEZONE
BEGIN:VEVENT
DTSTART;TZID=UTC:20250206T000000
DTEND;TZID=UTC:20250206T235959
DTSTAMP:20260423T063609
CREATED:20241218T202343Z
LAST-MODIFIED:20241218T202424Z
UID:785-1738800000-1738886399@nodance-nosense.com
SUMMARY:We loved each other - Yoann Bourgeois
DESCRIPTION:SWEDEN – Göteborgsoperan
URL:https://nodance-nosense.com/event/we-loved-each-other-yoann-bourgeois/
END:VEVENT
BEGIN:VEVENT
DTSTART;TZID=UTC:20250213T000000
DTEND;TZID=UTC:20250213T235959
DTSTAMP:20260423T063609
CREATED:20241218T202941Z
LAST-MODIFIED:20241218T202941Z
UID:797-1739404800-1739491199@nodance-nosense.com
SUMMARY:We loved each other – Yoann Bourgeois
DESCRIPTION:SWEDEN – Göteborgsoperan
URL:https://nodance-nosense.com/event/we-loved-each-other-yoann-bourgeois-5/
END:VEVENT
BEGIN:VEVENT
DTSTART;TZID=UTC:20250218T000000
DTEND;TZID=UTC:20250218T235959
DTSTAMP:20260423T063609
CREATED:20241218T202627Z
LAST-MODIFIED:20241218T202627Z
UID:792-1739836800-1739923199@nodance-nosense.com
SUMMARY:We loved each other – Yoann Bourgeois
DESCRIPTION:SWEDEN – Göteborgsoperan
URL:https://nodance-nosense.com/event/we-loved-each-other-yoann-bourgeois-3/
END:VEVENT
BEGIN:VEVENT
DTSTART;TZID=UTC:20250220T000000
DTEND;TZID=UTC:20250220T235959
DTSTAMP:20260423T063609
CREATED:20241218T203050Z
LAST-MODIFIED:20241218T203050Z
UID:799-1740009600-1740095999@nodance-nosense.com
SUMMARY:We loved each other – Yoann Bourgeois
DESCRIPTION:SWEDEN – Göteborgsoperan
URL:https://nodance-nosense.com/event/we-loved-each-other-yoann-bourgeois-6/
END:VEVENT
END:VCALENDAR