BEGIN:VCALENDAR
VERSION:2.0
PRODID:-// - ECPv6.15.17//NONSGML v1.0//EN
CALSCALE:GREGORIAN
METHOD:PUBLISH
X-ORIGINAL-URL:https://nodance-nosense.com
X-WR-CALDESC:Évènements pour 
REFRESH-INTERVAL;VALUE=DURATION:PT1H
X-Robots-Tag:noindex
X-PUBLISHED-TTL:PT1H
BEGIN:VTIMEZONE
TZID:UTC
BEGIN:STANDARD
TZOFFSETFROM:+0000
TZOFFSETTO:+0000
TZNAME:UTC
DTSTART:20250101T000000
END:STANDARD
END:VTIMEZONE
BEGIN:VEVENT
DTSTART;TZID=UTC:20260421T000000
DTEND;TZID=UTC:20260425T235959
DTSTAMP:20260422T095119
CREATED:20250828T195301Z
LAST-MODIFIED:20250828T195302Z
UID:2344-1776729600-1777161599@nodance-nosense.com
SUMMARY:🇫🇷 Actus... - Lucinda Childs
DESCRIPTION:FRANCE – Opéra de Lyon
URL:https://nodance-nosense.com/event/%f0%9f%87%ab%f0%9f%87%b7-actus-lucinda-childs-2/
END:VEVENT
BEGIN:VEVENT
DTSTART;TZID=UTC:20260422T000000
DTEND;TZID=UTC:20260422T235959
DTSTAMP:20260422T095119
CREATED:20250828T201130Z
LAST-MODIFIED:20250828T202840Z
UID:2346-1776816000-1776902399@nodance-nosense.com
SUMMARY:🇧🇪 Opus - Christos Papadopoulos
DESCRIPTION:BELGIUM – Opera Antwerpen
URL:https://nodance-nosense.com/event/%f0%9f%87%a7%f0%9f%87%aa-opus-christos-papadopoulos/
END:VEVENT
BEGIN:VEVENT
DTSTART;TZID=UTC:20260422T000000
DTEND;TZID=UTC:20260425T235959
DTSTAMP:20260422T095119
CREATED:20250828T212506Z
LAST-MODIFIED:20250828T212641Z
UID:2380-1776816000-1777161599@nodance-nosense.com
SUMMARY:🇫🇷 Joy - Alexander Ekman
DESCRIPTION:FRANCE – Grand Théâtre Bordeaux
URL:https://nodance-nosense.com/event/%f0%9f%87%ab%f0%9f%87%b7-joy-alexander-ekman-2/
END:VEVENT
END:VCALENDAR